BEGIN:VCALENDAR
VERSION:2.0
PRODID:-//DML Mortgage - ECPv6.1.3//NONSGML v1.0//EN
CALSCALE:GREGORIAN
METHOD:PUBLISH
X-ORIGINAL-URL:https://www.dmlmortgage.com
X-WR-CALDESC:Events for DML Mortgage
REFRESH-INTERVAL;VALUE=DURATION:PT1H
X-Robots-Tag:noindex
X-PUBLISHED-TTL:PT1H
BEGIN:VTIMEZONE
TZID:UTC
BEGIN:STANDARD
TZOFFSETFROM:+0000
TZOFFSETTO:+0000
TZNAME:UTC
DTSTART:20160101T000000
END:STANDARD
TZID:America/New_York
BEGIN:DAYLIGHT
TZOFFSETFROM:-0500
TZOFFSETTO:-0400
TZNAME:EDT
DTSTART:20160313T070000
END:DAYLIGHT
BEGIN:STANDARD
TZOFFSETFROM:-0400
TZOFFSETTO:-0500
TZNAME:EST
DTSTART:20161106T060000
END:STANDARD
END:VTIMEZONE
BEGIN:VEVENT
DTSTART;TZID=UTC:20161231T220000
DTEND;TZID=UTC:20161231T220000
DTSTAMP:20260422T165007
CREATED:20161122T184434Z
LAST-MODIFIED:20161122T184532Z
UID:529-1483221600-1483221600@www.dmlmortgage.com
SUMMARY:Yorktown NYE Ball Drop
DESCRIPTION:
URL:https://www.dmlmortgage.com/event/yorktown-nye-ball-drop/
END:VEVENT
BEGIN:VEVENT
DTSTART;TZID=UTC:20161209T180000
DTEND;TZID=UTC:20161209T203000
DTSTAMP:20260422T165007
CREATED:20161122T184215Z
LAST-MODIFIED:20161122T184215Z
UID:526-1481306400-1481315400@www.dmlmortgage.com
SUMMARY:Holiday Party- Yorktown Chamber of Commerce
DESCRIPTION:Yorktown Chamber of Commerce Holiday Party
URL:https://www.dmlmortgage.com/event/holiday-party-yorktown-chamber-of-commerce/
LOCATION:Frankie and Augie’Z\, 3663 Hill Boulevard\, Yorktown Heights \, NY\, 10598\, United States
END:VEVENT
BEGIN:VEVENT
DTSTART;TZID=UTC:20161009T080000
DTEND;TZID=UTC:20161009T170000
DTSTAMP:20260422T165007
CREATED:20160714T135736Z
LAST-MODIFIED:20160714T135736Z
UID:373-1476000000-1476032400@www.dmlmortgage.com
SUMMARY:Yorktown Street Festival
DESCRIPTION:
URL:https://www.dmlmortgage.com/event/yorktown-street-festival/
ORGANIZER;CN="":MAILTO:q2muipwdiuwavkula2@thrott.com
END:VEVENT
BEGIN:VEVENT
DTSTART;TZID=UTC:20160915T180000
DTEND;TZID=UTC:20160918T230000
DTSTAMP:20260422T165007
CREATED:20160915T153325Z
LAST-MODIFIED:20160915T165101Z
UID:491-1473962400-1474239600@www.dmlmortgage.com
SUMMARY:San Gennaro Feast
DESCRIPTION:
URL:https://www.dmlmortgage.com/event/san-genaro-feast/
END:VEVENT
BEGIN:VEVENT
DTSTART;TZID=America/New_York:20160806T180000
DTEND;TZID=America/New_York:20160806T220000
DTSTAMP:20260422T165007
CREATED:20160714T135659Z
LAST-MODIFIED:20160714T135659Z
UID:371-1470506400-1470520800@www.dmlmortgage.com
SUMMARY:Yorktown Summer Concert - Jessica Lynn
DESCRIPTION:
URL:https://www.dmlmortgage.com/event/yorktown-summer-concert-jessica-lynn/
LOCATION:Jack DeVito field
ORGANIZER;CN="":MAILTO:q2muipwdiuwavkula2@thrott.com
END:VEVENT
BEGIN:VEVENT
DTSTART;TZID=America/New_York:20160731T180000
DTEND;TZID=America/New_York:20160731T220000
DTSTAMP:20260422T165007
CREATED:20160714T135541Z
LAST-MODIFIED:20160714T135556Z
UID:368-1469988000-1470002400@www.dmlmortgage.com
SUMMARY:Yorktown Summer Concert - Beatlemania
DESCRIPTION:
URL:https://www.dmlmortgage.com/event/yorktown-summer-concert/
LOCATION:Jack DeVito field
ORGANIZER;CN="":MAILTO:q2muipwdiuwavkula2@thrott.com
END:VEVENT
END:VCALENDAR